BEGIN:VCALENDAR
VERSION:2.0
PRODID:-//MoreDirt v1.0//EN
BEGIN:VEVENT
DTSTAMP:20150730T130000Z
ORGANIZER;CN=Thredbo Bike Park:MAILTO:
STATUS:CONFIRMED
UID:MORESPORTSNETWORK6908
DTSTART:20260328T080000+0000
DTEND:20260328T120000+0000
SUMMARY:Thredbo Gravity Series 2026 - RD3
DESCRIPTION:Thredbo Gravity Series 2026 - RD3 - more details: https://www.moredirt.com/event/6908
X-ALT-DESC;FMTTYPE=text/html:Thredbo Gravity Series 2026 - RD3 - more details: https://www.moredirt.com/event/6908
LOCATION:
END:VEVENT
END:VCALENDAR