BEGIN:VCALENDAR
VERSION:2.0
PRODID:-//MoreDirt v1.0//EN
BEGIN:VEVENT
DTSTAMP:20150730T130000Z
ORGANIZER;CN=Thredbo Bike Park:MAILTO:
STATUS:CONFIRMED
UID:MORESPORTSNETWORK6906
DTSTART:20251213T080000+0000
DTEND:20251213T120000+0000
SUMMARY:Thredbo Gravity Series 2026 - RD1
DESCRIPTION:Thredbo Gravity Series 2026 - RD1 - more details: https://www.moredirt.com/event/6906
X-ALT-DESC;FMTTYPE=text/html:Thredbo Gravity Series 2026 - RD1 - more details: https://www.moredirt.com/event/6906
LOCATION:
END:VEVENT
END:VCALENDAR