BEGIN:VCALENDAR
VERSION:2.0
PRODID:-//MoreDirt v1.0//EN
BEGIN:VEVENT
DTSTAMP:20150730T130000Z
ORGANIZER;CN=Downhill Southeast:MAILTO:
STATUS:CONFIRMED
UID:MORESPORTSNETWORK6905
DTSTART:20260710T080000Z
DTEND:20260712T120000Z
SUMMARY:Downhill Southeast Series 2026 RD6
DESCRIPTION:Downhill Southeast Series 2026 RD6 - more details: https://www.moredirt.com/event/6905
X-ALT-DESC;FMTTYPE=text/html:Downhill Southeast Series 2026 RD6 - more details: https://www.moredirt.com/event/6905
LOCATION:
END:VEVENT
END:VCALENDAR