BEGIN:VCALENDAR
VERSION:2.0
PRODID:-//MoreDirt v1.0//EN
BEGIN:VEVENT
DTSTAMP:20150730T130000Z
ORGANIZER;CN=Downhill Southeast:MAILTO:
STATUS:CONFIRMED
UID:MORESPORTSNETWORK6903
DTSTART:20260529T080000Z
DTEND:20260531T120000Z
SUMMARY:Downhill Southeast Series 2026 RD4
DESCRIPTION:Downhill Southeast Series 2026 RD4 - more details: https://www.moredirt.com/event/6903
X-ALT-DESC;FMTTYPE=text/html:Downhill Southeast Series 2026 RD4 - more details: https://www.moredirt.com/event/6903
LOCATION:
END:VEVENT
END:VCALENDAR