BEGIN:VCALENDAR
VERSION:2.0
PRODID:-//MoreDirt v1.0//EN
BEGIN:VEVENT
DTSTAMP:20150730T130000Z
ORGANIZER;CN=Downhill Southeast:MAILTO:
STATUS:CONFIRMED
UID:MORESPORTSNETWORK6902
DTSTART:20260424T080000Z
DTEND:20260426T120000Z
SUMMARY:Downhill Southeast Series 2026 RD3
DESCRIPTION:Downhill Southeast Series 2026 RD3 - more details: https://www.moredirt.com/event/6902
X-ALT-DESC;FMTTYPE=text/html:Downhill Southeast Series 2026 RD3 - more details: https://www.moredirt.com/event/6902
LOCATION:
END:VEVENT
END:VCALENDAR