BEGIN:VCALENDAR
VERSION:2.0
PRODID:-//MoreDirt v1.0//EN
BEGIN:VEVENT
DTSTAMP:20150730T130000Z
ORGANIZER;CN=Downhill Southeast:MAILTO:
STATUS:CONFIRMED
UID:MORESPORTSNETWORK6901
DTSTART:20260410T080000Z
DTEND:20260412T120000Z
SUMMARY:Downhill Southeast Series 2026 RD2
DESCRIPTION:Downhill Southeast Series 2026 RD2 - more details: https://www.moredirt.com/event/6901
X-ALT-DESC;FMTTYPE=text/html:Downhill Southeast Series 2026 RD2 - more details: https://www.moredirt.com/event/6901
LOCATION:
END:VEVENT
END:VCALENDAR