BEGIN:VCALENDAR
VERSION:2.0
PRODID:-//MoreDirt v1.0//EN
BEGIN:VEVENT
DTSTAMP:20150730T130000Z
ORGANIZER;CN=Downhill Southeast:MAILTO:
STATUS:CONFIRMED
UID:MORESPORTSNETWORK6900
DTSTART:20260306T080000+0000
DTEND:20260308T120000+0000
SUMMARY:Downhill Southeast Series 2026 RD1
DESCRIPTION:Downhill Southeast Series 2026 RD1 - more details: https://www.moredirt.com/event/6900
X-ALT-DESC;FMTTYPE=text/html:Downhill Southeast Series 2026 RD1 - more details: https://www.moredirt.com/event/6900
LOCATION:
END:VEVENT
END:VCALENDAR