BEGIN:VCALENDAR
VERSION:2.0
PRODID:-//MoreDirt v1.0//EN
BEGIN:VEVENT
DTSTAMP:20150730T130000Z
ORGANIZER;CN=SheRides Collective:MAILTO:
STATUS:CONFIRMED
UID:MORESPORTSNETWORK6894
DTSTART:20251220T080000+0000
DTEND:20251220T120000+0000
SUMMARY:SheRides - Rogate B1KE Park Social Ride
DESCRIPTION:SheRides - Rogate B1KE Park Social Ride - more details: https://www.moredirt.com/event/6894
X-ALT-DESC;FMTTYPE=text/html:SheRides - Rogate B1KE Park Social Ride - more details: https://www.moredirt.com/event/6894
LOCATION:
END:VEVENT
END:VCALENDAR