BEGIN:VCALENDAR
VERSION:2.0
PRODID:-//MoreDirt v1.0//EN
BEGIN:VEVENT
DTSTAMP:20150730T130000Z
ORGANIZER;CN=:MAILTO:
STATUS:CONFIRMED
UID:MORESPORTSNETWORK6891
DTSTART:20251227T080000+0000
DTEND:20251228T120000+0000
SUMMARY:Havok Bike Park Turkey Burner 2026
DESCRIPTION:Havok Bike Park Turkey Burner 2026 - more details: https://www.moredirt.com/event/6891
X-ALT-DESC;FMTTYPE=text/html:Havok Bike Park Turkey Burner 2026 - more details: https://www.moredirt.com/event/6891
LOCATION:
END:VEVENT
END:VCALENDAR