BEGIN:VCALENDAR
VERSION:2.0
PRODID:-//MoreDirt v1.0//EN
BEGIN:VEVENT
DTSTAMP:20150730T130000Z
ORGANIZER;CN=Southern XC Series:MAILTO:
STATUS:CONFIRMED
UID:MORESPORTSNETWORK6889
DTSTART:20260524T080000Z
DTEND:20260524T120000Z
SUMMARY:Southern XC RD3 2026 - Basingstoke
DESCRIPTION:Southern XC RD3 2026 - Basingstoke - more details: https://www.moredirt.com/event/6889
X-ALT-DESC;FMTTYPE=text/html:Southern XC RD3 2026 - Basingstoke - more details: https://www.moredirt.com/event/6889
LOCATION:
END:VEVENT
END:VCALENDAR