BEGIN:VCALENDAR
VERSION:2.0
PRODID:-//MoreDirt v1.0//EN
BEGIN:VEVENT
DTSTAMP:20150730T130000Z
ORGANIZER;CN=Southern XC Series:MAILTO:
STATUS:CONFIRMED
UID:MORESPORTSNETWORK6888
DTSTART:20260419T080000Z
DTEND:20260419T120000Z
SUMMARY:Southern XC RD2 2026 - The New Forest
DESCRIPTION:Southern XC RD2 2026 - The New Forest - more details: https://www.moredirt.com/event/6888
X-ALT-DESC;FMTTYPE=text/html:Southern XC RD2 2026 - The New Forest - more details: https://www.moredirt.com/event/6888
LOCATION:
END:VEVENT
END:VCALENDAR