BEGIN:VCALENDAR
VERSION:2.0
PRODID:-//MoreDirt v1.0//EN
BEGIN:VEVENT
DTSTAMP:20150730T130000Z
ORGANIZER;CN=Southern XC Series:MAILTO:
STATUS:CONFIRMED
UID:MORESPORTSNETWORK6887
DTSTART:20260322T080000+0000
DTEND:20260322T120000+0000
SUMMARY:Southern XC RD1 2026 - Winchester
DESCRIPTION:Southern XC RD1 2026 - Winchester - more details: https://www.moredirt.com/event/6887
X-ALT-DESC;FMTTYPE=text/html:Southern XC RD1 2026 - Winchester - more details: https://www.moredirt.com/event/6887
LOCATION:
END:VEVENT
END:VCALENDAR