BEGIN:VCALENDAR
VERSION:2.0
PRODID:-//MoreDirt v1.0//EN
BEGIN:VEVENT
DTSTAMP:20150730T130000Z
ORGANIZER;CN=Atherton Bikes:MAILTO:
STATUS:CONFIRMED
UID:MORESPORTSNETWORK6881
DTSTART:20251214T080000+0000
DTEND:20251214T120000+0000
SUMMARY:Atherton Bikes Christmas Demo - Dyfi Bike Park
DESCRIPTION:Atherton Bikes Christmas Demo - Dyfi Bike Park - more details: https://www.moredirt.com/event/6881
X-ALT-DESC;FMTTYPE=text/html:Atherton Bikes Christmas Demo - Dyfi Bike Park - more details: https://www.moredirt.com/event/6881
LOCATION:
END:VEVENT
END:VCALENDAR