BEGIN:VCALENDAR
VERSION:2.0
PRODID:-//MoreDirt v1.0//EN
BEGIN:VEVENT
DTSTAMP:20150730T130000Z
ORGANIZER;CN=Trans-Sylvania Productions:MAILTO:
STATUS:CONFIRMED
UID:MORESPORTSNETWORK6880
DTSTART:20260919T080000Z
DTEND:20260919T120000Z
SUMMARY:Raystown Lake MTB Marathon
DESCRIPTION:Raystown Lake MTB Marathon - more details: https://www.moredirt.com/event/6880
X-ALT-DESC;FMTTYPE=text/html:Raystown Lake MTB Marathon - more details: https://www.moredirt.com/event/6880
LOCATION:
END:VEVENT
END:VCALENDAR