BEGIN:VCALENDAR
VERSION:2.0
PRODID:-//MoreDirt v1.0//EN
BEGIN:VEVENT
DTSTAMP:20150730T130000Z
ORGANIZER;CN=Hamsterley Trailblazers MTB:MAILTO:
STATUS:CONFIRMED
UID:MORESPORTSNETWORK6878
DTSTART:20251213T080000+0000
DTEND:20251213T120000+0000
SUMMARY:Mountain Bike Trail Building - Hamsterley Forest
DESCRIPTION:Mountain Bike Trail Building - Hamsterley Forest - more details: https://www.moredirt.com/event/6878
X-ALT-DESC;FMTTYPE=text/html:Mountain Bike Trail Building - Hamsterley Forest - more details: https://www.moredirt.com/event/6878
LOCATION:
END:VEVENT
END:VCALENDAR