BEGIN:VCALENDAR
VERSION:2.0
PRODID:-//MoreDirt v1.0//EN
BEGIN:VEVENT
DTSTAMP:20150730T130000Z
ORGANIZER;CN=Big Mountain Enduro Series:MAILTO:
STATUS:CONFIRMED
UID:MORESPORTSNETWORK6877
DTSTART:20260808T080000Z
DTEND:20260809T120000Z
SUMMARY:Big Mountain Enduro Series 2026 - Round 5
DESCRIPTION:Big Mountain Enduro Series 2026 - Round 5 - more details: https://www.moredirt.com/event/6877
X-ALT-DESC;FMTTYPE=text/html:Big Mountain Enduro Series 2026 - Round 5 - more details: https://www.moredirt.com/event/6877
LOCATION:
END:VEVENT
END:VCALENDAR