BEGIN:VCALENDAR
VERSION:2.0
PRODID:-//MoreDirt v1.0//EN
BEGIN:VEVENT
DTSTAMP:20150730T130000Z
ORGANIZER;CN=Big Mountain Enduro Series:MAILTO:
STATUS:CONFIRMED
UID:MORESPORTSNETWORK6874
DTSTART:20260613T080000Z
DTEND:20260614T120000Z
SUMMARY:Big Mountain Enduro Series 2026 - Round 2
DESCRIPTION:Big Mountain Enduro Series 2026 - Round 2 - more details: https://www.moredirt.com/event/6874
X-ALT-DESC;FMTTYPE=text/html:Big Mountain Enduro Series 2026 - Round 2 - more details: https://www.moredirt.com/event/6874
LOCATION:
END:VEVENT
END:VCALENDAR