BEGIN:VCALENDAR
VERSION:2.0
PRODID:-//MoreDirt v1.0//EN
BEGIN:VEVENT
DTSTAMP:20150730T130000Z
ORGANIZER;CN=Big Mountain Enduro Series:MAILTO:
STATUS:CONFIRMED
UID:MORESPORTSNETWORK6873
DTSTART:20260530T080000Z
DTEND:20260531T120000Z
SUMMARY:Big Mountain Enduro Series 2026 - Round 1
DESCRIPTION:Big Mountain Enduro Series 2026 - Round 1 - more details: https://www.moredirt.com/event/6873
X-ALT-DESC;FMTTYPE=text/html:Big Mountain Enduro Series 2026 - Round 1 - more details: https://www.moredirt.com/event/6873
LOCATION:
END:VEVENT
END:VCALENDAR