BEGIN:VCALENDAR
VERSION:2.0
PRODID:-//MoreDirt v1.0//EN
BEGIN:VEVENT
DTSTAMP:20150730T130000Z
ORGANIZER;CN=National Downhill Series:MAILTO:
STATUS:CONFIRMED
UID:MORESPORTSNETWORK6872
DTSTART:20260912T080000Z
DTEND:20260913T120000Z
SUMMARY:National Downhill Series 2026 Round 5 - Fort William
DESCRIPTION:National Downhill Series 2026 Round 5 - Fort William - more details: https://www.moredirt.com/event/6872
X-ALT-DESC;FMTTYPE=text/html:National Downhill Series 2026 Round 5 - Fort William - more details: https://www.moredirt.com/event/6872
LOCATION:
END:VEVENT
END:VCALENDAR