BEGIN:VCALENDAR
VERSION:2.0
PRODID:-//MoreDirt v1.0//EN
BEGIN:VEVENT
DTSTAMP:20150730T130000Z
ORGANIZER;CN=National Downhill Series:MAILTO:
STATUS:CONFIRMED
UID:MORESPORTSNETWORK6871
DTSTART:20260808T080000Z
DTEND:20260809T120000Z
SUMMARY:National Downhill Series 2026 Round 4 - Llangollen
DESCRIPTION:National Downhill Series 2026 Round 4 - Llangollen - more details: https://www.moredirt.com/event/6871
X-ALT-DESC;FMTTYPE=text/html:National Downhill Series 2026 Round 4 - Llangollen - more details: https://www.moredirt.com/event/6871
LOCATION:
END:VEVENT
END:VCALENDAR