BEGIN:VCALENDAR
VERSION:2.0
PRODID:-//MoreDirt v1.0//EN
BEGIN:VEVENT
DTSTAMP:20150730T130000Z
ORGANIZER;CN=National Downhill Series:MAILTO:
STATUS:CONFIRMED
UID:MORESPORTSNETWORK6870
DTSTART:20260627T080000Z
DTEND:20260628T120000Z
SUMMARY:National Downhill Series 2026 Round 3 - Glencoe
DESCRIPTION:National Downhill Series 2026 Round 3 - Glencoe - more details: https://www.moredirt.com/event/6870
X-ALT-DESC;FMTTYPE=text/html:National Downhill Series 2026 Round 3 - Glencoe - more details: https://www.moredirt.com/event/6870
LOCATION:
END:VEVENT
END:VCALENDAR