BEGIN:VCALENDAR
VERSION:2.0
PRODID:-//MoreDirt v1.0//EN
BEGIN:VEVENT
DTSTAMP:20150730T130000Z
ORGANIZER;CN=National Downhill Series:MAILTO:
STATUS:CONFIRMED
UID:MORESPORTSNETWORK6869
DTSTART:20260509T080000Z
DTEND:20260510T120000Z
SUMMARY:National Downhill Series 2026 Round 2 - Antur Stiniog
DESCRIPTION:National Downhill Series 2026 Round 2 - Antur Stiniog - more details: https://www.moredirt.com/event/6869
X-ALT-DESC;FMTTYPE=text/html:National Downhill Series 2026 Round 2 - Antur Stiniog - more details: https://www.moredirt.com/event/6869
LOCATION:
END:VEVENT
END:VCALENDAR