BEGIN:VCALENDAR
VERSION:2.0
PRODID:-//MoreDirt v1.0//EN
BEGIN:VEVENT
DTSTAMP:20150730T130000Z
ORGANIZER;CN=Southern Enduro Series:MAILTO:
STATUS:CONFIRMED
UID:MORESPORTSNETWORK6865
DTSTART:20260522T080000Z
DTEND:20260524T120000Z
SUMMARY:Southern Enduro Champs 2026 (RD3) - Minehead
DESCRIPTION:Southern Enduro Champs 2026 (RD3) - Minehead - more details: https://www.moredirt.com/event/6865
X-ALT-DESC;FMTTYPE=text/html:Southern Enduro Champs 2026 (RD3) - Minehead - more details: https://www.moredirt.com/event/6865
LOCATION:
END:VEVENT
END:VCALENDAR