BEGIN:VCALENDAR
VERSION:2.0
PRODID:-//MoreDirt v1.0//EN
BEGIN:VEVENT
DTSTAMP:20150730T130000Z
ORGANIZER;CN=Southern Enduro Series:MAILTO:
STATUS:CONFIRMED
UID:MORESPORTSNETWORK6864
DTSTART:20260503T080000Z
DTEND:20260503T120000Z
SUMMARY:Southern Enduro 2026 RD2 - QECP
DESCRIPTION:Southern Enduro 2026 RD2 - QECP - more details: https://www.moredirt.com/event/6864
X-ALT-DESC;FMTTYPE=text/html:Southern Enduro 2026 RD2 - QECP - more details: https://www.moredirt.com/event/6864
LOCATION:
END:VEVENT
END:VCALENDAR