BEGIN:VCALENDAR
VERSION:2.0
PRODID:-//MoreDirt v1.0//EN
BEGIN:VEVENT
DTSTAMP:20150730T130000Z
ORGANIZER;CN=Bikefest:MAILTO:
STATUS:CONFIRMED
UID:MORESPORTSNETWORK6861
DTSTART:20260911T080000Z
DTEND:20260913T120000Z
SUMMARY:The Ex Enduro 2026
DESCRIPTION:The Ex Enduro 2026 - more details: https://www.moredirt.com/event/6861
X-ALT-DESC;FMTTYPE=text/html:The Ex Enduro 2026 - more details: https://www.moredirt.com/event/6861
LOCATION:
END:VEVENT
END:VCALENDAR