BEGIN:VCALENDAR
VERSION:2.0
PRODID:-//MoreDirt v1.0//EN
BEGIN:VEVENT
DTSTAMP:20150730T130000Z
ORGANIZER;CN=Welsh Cycling Mountain Bike XC Series:MAILTO:
STATUS:CONFIRMED
UID:MORESPORTSNETWORK6860
DTSTART:20260712T080000Z
DTEND:20260712T120000Z
SUMMARY:Welsh MTB XCO Series 2026 - RD5
DESCRIPTION:Welsh MTB XCO Series 2026 - RD5 - more details: https://www.moredirt.com/event/6860
X-ALT-DESC;FMTTYPE=text/html:Welsh MTB XCO Series 2026 - RD5 - more details: https://www.moredirt.com/event/6860
LOCATION:
END:VEVENT
END:VCALENDAR