BEGIN:VCALENDAR
VERSION:2.0
PRODID:-//MoreDirt v1.0//EN
BEGIN:VEVENT
DTSTAMP:20150730T130000Z
ORGANIZER;CN=Dialled In Downhill Series:MAILTO:
STATUS:CONFIRMED
UID:MORESPORTSNETWORK6856
DTSTART:20260926T080000Z
DTEND:20260927T120000Z
SUMMARY:Dialled In Downhill Series 2026 - RD3
DESCRIPTION:Dialled In Downhill Series 2026 - RD3 - more details: https://www.moredirt.com/event/6856
X-ALT-DESC;FMTTYPE=text/html:Dialled In Downhill Series 2026 - RD3 - more details: https://www.moredirt.com/event/6856
LOCATION:
END:VEVENT
END:VCALENDAR