BEGIN:VCALENDAR
VERSION:2.0
PRODID:-//MoreDirt v1.0//EN
BEGIN:VEVENT
DTSTAMP:20150730T130000Z
ORGANIZER;CN=Dialled In Downhill Series:MAILTO:
STATUS:CONFIRMED
UID:MORESPORTSNETWORK6854
DTSTART:20260523T080000Z
DTEND:20260524T120000Z
SUMMARY:Dialled In Downhill Series 2026 - RD1
DESCRIPTION:Dialled In Downhill Series 2026 - RD1 - more details: https://www.moredirt.com/event/6854
X-ALT-DESC;FMTTYPE=text/html:Dialled In Downhill Series 2026 - RD1 - more details: https://www.moredirt.com/event/6854
LOCATION:
END:VEVENT
END:VCALENDAR