BEGIN:VCALENDAR
VERSION:2.0
PRODID:-//MoreDirt v1.0//EN
BEGIN:VEVENT
DTSTAMP:20150730T130000Z
ORGANIZER;CN=Pedalhounds:MAILTO:
STATUS:CONFIRMED
UID:MORESPORTSNETWORK6853
DTSTART:20261004T080000Z
DTEND:20261004T120000Z
SUMMARY:Pedalhounds MTB-EMTB Enduro Race 4 - Land of Nod
DESCRIPTION:Pedalhounds MTB-EMTB Enduro Race 4 - Land of Nod - more details: https://www.moredirt.com/event/6853
X-ALT-DESC;FMTTYPE=text/html:Pedalhounds MTB-EMTB Enduro Race 4 - Land of Nod - more details: https://www.moredirt.com/event/6853
LOCATION:
END:VEVENT
END:VCALENDAR