BEGIN:VCALENDAR
VERSION:2.0
PRODID:-//MoreDirt v1.0//EN
BEGIN:VEVENT
DTSTAMP:20150730T130000Z
ORGANIZER;CN=Pedalhounds:MAILTO:
STATUS:CONFIRMED
UID:MORESPORTSNETWORK6852
DTSTART:20260510T080000Z
DTEND:20260510T120000Z
SUMMARY:Pedalhounds MTB-EMTB Enduro Race 3 - Matterley Estate
DESCRIPTION:Pedalhounds MTB-EMTB Enduro Race 3 - Matterley Estate - more details: https://www.moredirt.com/event/6852
X-ALT-DESC;FMTTYPE=text/html:Pedalhounds MTB-EMTB Enduro Race 3 - Matterley Estate - more details: https://www.moredirt.com/event/6852
LOCATION:
END:VEVENT
END:VCALENDAR