BEGIN:VCALENDAR
VERSION:2.0
PRODID:-//MoreDirt v1.0//EN
BEGIN:VEVENT
DTSTAMP:20150730T130000Z
ORGANIZER;CN=Pedalhounds:MAILTO:
STATUS:CONFIRMED
UID:MORESPORTSNETWORK6850
DTSTART:20260301T080000+0000
DTEND:20260301T120000+0000
SUMMARY:Pedalhounds MTB-EMTB Enduro Race 1 - Canada Heights
DESCRIPTION:Pedalhounds MTB-EMTB Enduro Race 1 - Canada Heights - more details: https://www.moredirt.com/event/6850
X-ALT-DESC;FMTTYPE=text/html:Pedalhounds MTB-EMTB Enduro Race 1 - Canada Heights - more details: https://www.moredirt.com/event/6850
LOCATION:
END:VEVENT
END:VCALENDAR