BEGIN:VCALENDAR
VERSION:2.0
PRODID:-//MoreDirt v1.0//EN
BEGIN:VEVENT
DTSTAMP:20150730T130000Z
ORGANIZER;CN=Ard Rock:MAILTO:
STATUS:CONFIRMED
UID:MORESPORTSNETWORK6849
DTSTART:20260724T080000Z
DTEND:20260725T120000Z
SUMMARY:Ard Rock Enduro 2026
DESCRIPTION:Ard Rock Enduro 2026 - more details: https://www.moredirt.com/event/6849
X-ALT-DESC;FMTTYPE=text/html:Ard Rock Enduro 2026 - more details: https://www.moredirt.com/event/6849
LOCATION:
END:VEVENT
END:VCALENDAR