BEGIN:VCALENDAR
VERSION:2.0
PRODID:-//MoreDirt v1.0//EN
BEGIN:VEVENT
DTSTAMP:20150730T130000Z
ORGANIZER;CN=Focus Rides Events:MAILTO:
STATUS:CONFIRMED
UID:MORESPORTSNETWORK6846
DTSTART:20260620T080000Z
DTEND:20260621T120000Z
SUMMARY:Peaks Enduro Series Round 4 BNES
DESCRIPTION:Peaks Enduro Series Round 4 BNES - more details: https://www.moredirt.com/event/6846
X-ALT-DESC;FMTTYPE=text/html:Peaks Enduro Series Round 4 BNES - more details: https://www.moredirt.com/event/6846
LOCATION:
END:VEVENT
END:VCALENDAR