BEGIN:VCALENDAR
VERSION:2.0
PRODID:-//MoreDirt v1.0//EN
BEGIN:VEVENT
DTSTAMP:20150730T130000Z
ORGANIZER;CN=Focus Rides Events:MAILTO:
STATUS:CONFIRMED
UID:MORESPORTSNETWORK6844
DTSTART:20260426T080000Z
DTEND:20260426T120000Z
SUMMARY:Peaks Enduro Series Round 2
DESCRIPTION:Peaks Enduro Series Round 2 - more details: https://www.moredirt.com/event/6844
X-ALT-DESC;FMTTYPE=text/html:Peaks Enduro Series Round 2 - more details: https://www.moredirt.com/event/6844
LOCATION:
END:VEVENT
END:VCALENDAR