BEGIN:VCALENDAR
VERSION:2.0
PRODID:-//MoreDirt v1.0//EN
BEGIN:VEVENT
DTSTAMP:20150730T130000Z
ORGANIZER;CN=Focus Rides Events:MAILTO:
STATUS:CONFIRMED
UID:MORESPORTSNETWORK6843
DTSTART:20260425T080000Z
DTEND:20260425T120000Z
SUMMARY:Peaks Enduro Series Round 2 Ladies & U15 Boys
DESCRIPTION:Peaks Enduro Series Round 2 Ladies & U15 Boys - more details: https://www.moredirt.com/event/6843
X-ALT-DESC;FMTTYPE=text/html:Peaks Enduro Series Round 2 Ladies & U15 Boys - more details: https://www.moredirt.com/event/6843
LOCATION:
END:VEVENT
END:VCALENDAR