BEGIN:VCALENDAR
VERSION:2.0
PRODID:-//MoreDirt v1.0//EN
BEGIN:VEVENT
DTSTAMP:20150730T130000Z
ORGANIZER;CN=Crickley Flyers:MAILTO:
STATUS:CONFIRMED
UID:MORESPORTSNETWORK6841
DTSTART:20261129T080000+0000
DTEND:20261129T120000+0000
SUMMARY:Crickley Flyers Race Go-Ride Series Round 4
DESCRIPTION:Crickley Flyers Race Go-Ride Series Round 4 - more details: https://www.moredirt.com/event/6841
X-ALT-DESC;FMTTYPE=text/html:Crickley Flyers Race Go-Ride Series Round 4 - more details: https://www.moredirt.com/event/6841
LOCATION:
END:VEVENT
END:VCALENDAR