BEGIN:VCALENDAR
VERSION:2.0
PRODID:-//MoreDirt v1.0//EN
BEGIN:VEVENT
DTSTAMP:20150730T130000Z
ORGANIZER;CN=Crickley Flyers:MAILTO:
STATUS:CONFIRMED
UID:MORESPORTSNETWORK6840
DTSTART:20260927T080000Z
DTEND:20260927T120000Z
SUMMARY:Crickley Flyers Race Go-Ride Series Round 3
DESCRIPTION:Crickley Flyers Race Go-Ride Series Round 3 - more details: https://www.moredirt.com/event/6840
X-ALT-DESC;FMTTYPE=text/html:Crickley Flyers Race Go-Ride Series Round 3 - more details: https://www.moredirt.com/event/6840
LOCATION:
END:VEVENT
END:VCALENDAR