BEGIN:VCALENDAR
VERSION:2.0
PRODID:-//MoreDirt v1.0//EN
BEGIN:VEVENT
DTSTAMP:20150730T130000Z
ORGANIZER;CN=Crickley Flyers:MAILTO:
STATUS:CONFIRMED
UID:MORESPORTSNETWORK6839
DTSTART:20260628T080000Z
DTEND:20260628T120000Z
SUMMARY:Crickley Flyers Race Go-Ride Series Round 2
DESCRIPTION:Crickley Flyers Race Go-Ride Series Round 2 - more details: https://www.moredirt.com/event/6839
X-ALT-DESC;FMTTYPE=text/html:Crickley Flyers Race Go-Ride Series Round 2 - more details: https://www.moredirt.com/event/6839
LOCATION:
END:VEVENT
END:VCALENDAR