BEGIN:VCALENDAR
VERSION:2.0
PRODID:-//MoreDirt v1.0//EN
BEGIN:VEVENT
DTSTAMP:20150730T130000Z
ORGANIZER;CN=Crickley Flyers:MAILTO:
STATUS:CONFIRMED
UID:MORESPORTSNETWORK6838
DTSTART:20260322T080000+0000
DTEND:20260322T120000+0000
SUMMARY:Crickley Flyers Race Go-Ride Series Round 1
DESCRIPTION:Crickley Flyers Race Go-Ride Series Round 1 - more details: https://www.moredirt.com/event/6838
X-ALT-DESC;FMTTYPE=text/html:Crickley Flyers Race Go-Ride Series Round 1 - more details: https://www.moredirt.com/event/6838
LOCATION:
END:VEVENT
END:VCALENDAR