BEGIN:VCALENDAR
VERSION:2.0
PRODID:-//MoreDirt v1.0//EN
BEGIN:VEVENT
DTSTAMP:20150730T130000Z
ORGANIZER;CN=Sion James:MAILTO:
STATUS:CONFIRMED
UID:MORESPORTSNETWORK6836
DTSTART:20260705T080000Z
DTEND:20260705T120000Z
SUMMARY:Black Mountains MBO - Abercarn 26
DESCRIPTION:Black Mountains MBO - Abercarn 26 - more details: https://www.moredirt.com/event/6836
X-ALT-DESC;FMTTYPE=text/html:Black Mountains MBO - Abercarn 26 - more details: https://www.moredirt.com/event/6836
LOCATION:
END:VEVENT
END:VCALENDAR