BEGIN:VCALENDAR
VERSION:2.0
PRODID:-//MoreDirt v1.0//EN
BEGIN:VEVENT
DTSTAMP:20150730T130000Z
ORGANIZER;CN=Sion James:MAILTO:
STATUS:CONFIRMED
UID:MORESPORTSNETWORK6834
DTSTART:20260517T080000Z
DTEND:20260517T120000Z
SUMMARY:BM MBO/BOK MTB Weekender Day 2
DESCRIPTION:BM MBO/BOK MTB Weekender Day 2 - more details: https://www.moredirt.com/event/6834
X-ALT-DESC;FMTTYPE=text/html:BM MBO/BOK MTB Weekender Day 2 - more details: https://www.moredirt.com/event/6834
LOCATION:
END:VEVENT
END:VCALENDAR