BEGIN:VCALENDAR
VERSION:2.0
PRODID:-//MoreDirt v1.0//EN
BEGIN:VEVENT
DTSTAMP:20150730T130000Z
ORGANIZER;CN=Ride Bristol:MAILTO:
STATUS:CONFIRMED
UID:MORESPORTSNETWORK6830
DTSTART:20251204T080000+0000
DTEND:20251205T120000+0000
SUMMARY:Ashton Court Big Dig
DESCRIPTION:Ashton Court Big Dig - more details: https://www.moredirt.com/event/6830
X-ALT-DESC;FMTTYPE=text/html:Ashton Court Big Dig - more details: https://www.moredirt.com/event/6830
LOCATION:
END:VEVENT
END:VCALENDAR