BEGIN:VCALENDAR
VERSION:2.0
PRODID:-//MoreDirt v1.0//EN
BEGIN:VEVENT
DTSTAMP:20150730T130000Z
ORGANIZER;CN=Hillside Outside Ltd:MAILTO:
STATUS:CONFIRMED
UID:MORESPORTSNETWORK6829
DTSTART:20260530T080000Z
DTEND:20260530T120000Z
SUMMARY:Glentress 7 2026
DESCRIPTION:Glentress 7 2026 - more details: https://www.moredirt.com/event/6829
X-ALT-DESC;FMTTYPE=text/html:Glentress 7 2026 - more details: https://www.moredirt.com/event/6829
LOCATION:
END:VEVENT
END:VCALENDAR