BEGIN:VCALENDAR
VERSION:2.0
PRODID:-//MoreDirt v1.0//EN
BEGIN:VEVENT
DTSTAMP:20150730T130000Z
ORGANIZER;CN=Tayside Trail Association:MAILTO:
STATUS:CONFIRMED
UID:MORESPORTSNETWORK6828
DTSTART:20251123T080000+0000
DTEND:20251123T120000+0000
SUMMARY:Tayside Trail Association - Pitmedden
DESCRIPTION:Tayside Trail Association - Pitmedden - more details: https://www.moredirt.com/event/6828
X-ALT-DESC;FMTTYPE=text/html:Tayside Trail Association - Pitmedden - more details: https://www.moredirt.com/event/6828
LOCATION:
END:VEVENT
END:VCALENDAR