BEGIN:VCALENDAR
VERSION:2.0
PRODID:-//MoreDirt v1.0//EN
BEGIN:VEVENT
DTSTAMP:20150730T130000Z
ORGANIZER;CN=Tayside Trail Association:MAILTO:
STATUS:CONFIRMED
UID:MORESPORTSNETWORK6826
DTSTART:20251112T080000+0000
DTEND:20251112T120000+0000
SUMMARY:Tayside Trail Association - Ballo Dig Day
DESCRIPTION:Tayside Trail Association - Ballo Dig Day - more details: https://www.moredirt.com/event/6826
X-ALT-DESC;FMTTYPE=text/html:Tayside Trail Association - Ballo Dig Day - more details: https://www.moredirt.com/event/6826
LOCATION:
END:VEVENT
END:VCALENDAR