BEGIN:VCALENDAR
VERSION:2.0
PRODID:-//MoreDirt v1.0//EN
BEGIN:VEVENT
DTSTAMP:20150730T130000Z
ORGANIZER;CN=Ride Sheffield:MAILTO:
STATUS:CONFIRMED
UID:MORESPORTSNETWORK6824
DTSTART:20251101T080000+0000
DTEND:20251101T120000+0000
SUMMARY:Lady Canning's Cooking on Gas Opening day - Dig and Ride
DESCRIPTION:Lady Canning's Cooking on Gas Opening day - Dig and Ride - more details: https://www.moredirt.com/event/6824
X-ALT-DESC;FMTTYPE=text/html:Lady Canning's Cooking on Gas Opening day - Dig and Ride - more details: https://www.moredirt.com/event/6824
LOCATION:
END:VEVENT
END:VCALENDAR