BEGIN:VCALENDAR
VERSION:2.0
PRODID:-//MoreDirt v1.0//EN
BEGIN:VEVENT
DTSTAMP:20150730T130000Z
ORGANIZER;CN=Northern Downhill:MAILTO:
STATUS:CONFIRMED
UID:MORESPORTSNETWORK6821
DTSTART:20251116T080000+0000
DTEND:20251116T120000+0000
SUMMARY:Kielder TT
DESCRIPTION:Kielder TT - more details: https://www.moredirt.com/event/6821
X-ALT-DESC;FMTTYPE=text/html:Kielder TT - more details: https://www.moredirt.com/event/6821
LOCATION:
END:VEVENT
END:VCALENDAR