BEGIN:VCALENDAR
VERSION:2.0
PRODID:-//MoreDirt v1.0//EN
BEGIN:VEVENT
DTSTAMP:20150730T130000Z
ORGANIZER;CN=Northern Downhill:MAILTO:
STATUS:CONFIRMED
UID:MORESPORTSNETWORK6820
DTSTART:20260208T080000+0000
DTEND:20260208T120000+0000
SUMMARY:Chopwell Funduro
DESCRIPTION:Chopwell Funduro - more details: https://www.moredirt.com/event/6820
X-ALT-DESC;FMTTYPE=text/html:Chopwell Funduro - more details: https://www.moredirt.com/event/6820
LOCATION:
END:VEVENT
END:VCALENDAR