BEGIN:VCALENDAR
VERSION:2.0
PRODID:-//MoreDirt v1.0//EN
BEGIN:VEVENT
DTSTAMP:20150730T130000Z
ORGANIZER;CN=Epic Cycleworks:MAILTO:
STATUS:CONFIRMED
UID:MORESPORTSNETWORK6819
DTSTART:20260611T080000Z
DTEND:20260614T120000Z
SUMMARY:Blaenau 600
DESCRIPTION:Blaenau 600 - more details: https://www.moredirt.com/event/6819
X-ALT-DESC;FMTTYPE=text/html:Blaenau 600 - more details: https://www.moredirt.com/event/6819
LOCATION:
END:VEVENT
END:VCALENDAR