BEGIN:VCALENDAR
VERSION:2.0
PRODID:-//MoreDirt v1.0//EN
BEGIN:VEVENT
DTSTAMP:20150730T130000Z
ORGANIZER;CN=SheRides Collective:MAILTO:
STATUS:CONFIRMED
UID:MORESPORTSNETWORK6818
DTSTART:20251130T080000+0000
DTEND:20251130T120000+0000
SUMMARY:SheRides - LLandegla Social Ride
DESCRIPTION:SheRides - LLandegla Social Ride - more details: https://www.moredirt.com/event/6818
X-ALT-DESC;FMTTYPE=text/html:SheRides - LLandegla Social Ride - more details: https://www.moredirt.com/event/6818
LOCATION:
END:VEVENT
END:VCALENDAR